BEGIN:VCALENDAR
VERSION:2.0
PRODID:-//Lingenfelter&#039;s Blog - ECPv4.6.10.1//NONSGML v1.0//EN
CALSCALE:GREGORIAN
METHOD:PUBLISH
X-WR-CALNAME:Lingenfelter&#039;s Blog
X-ORIGINAL-URL:https://lingenfelter.com/blog
X-WR-CALDESC:Events for Lingenfelter&#039;s Blog
BEGIN:VEVENT
DTSTART;TZID=America/Detroit:20170203T150000
DTEND;TZID=America/Detroit:20170203T180000
DTSTAMP:20260425T112657
CREATED:20170202T211157Z
LAST-MODIFIED:20170202T211526Z
UID:2631-1486134000-1486144800@lingenfelter.com
SUMMARY:2016 Corvette Dream Giveaway Award Ceremony
DESCRIPTION: \nYou are invited to the Corvette Dream Giveaway Award Ceremony! \nFriday\, February 3\, 2017 at 3pm at 4911 Creekside Dr.\, Suite B\, Clearwater\, FL 33760.  \nCome Watch the 2016 Corvette Dream Giveaway Award Ceremony\nand Meet the Lucky Winner! \nThe Dream Giveaway prize packages are so amazing it’s hard to believe they’re actually real. That’s why you’re invited to join the Dream Giveaway team in-person to meet the winner of the 2016 Corvette Dream Giveaway at the Award Ceremony on February 3\, 2017.  \nCome see the 2016 Lingenfelter Signature Edition Z06 (Serial #001) and matching 1965 Sting Ray before they head off with the winner to their new home. \nThe lucky winner will be receiving the keys to this incredible pair of Corvettes. Join us to celebrate\, enjoy refreshments\, and tour the Dream Giveaway Garage and DG Studios. You’ll get an exclusive sneak-peek of other giveaway cars.  \nPlus one lucky Corvette owner will be chosen to have a professional photo session of their Corvette taken that day at the award ceremony. \nFeel free to invite guests and share this invite with your fellow enthusiasts. You are all invited. We hope to see you there! \n
URL:https://lingenfelter.com/blog/event/2016-corvette-dream-giveaway-award-ceremony/
LOCATION:4911 Creekside Dr.\, Suite B \, Clearwater\,\,  FL \, 33760\, United States
END:VEVENT
END:VCALENDAR