BEGIN:VCALENDAR
VERSION:2.0
PRODID:-//Lingenfelter&#039;s Blog - ECPv4.6.10.1//NONSGML v1.0//EN
CALSCALE:GREGORIAN
METHOD:PUBLISH
X-WR-CALNAME:Lingenfelter&#039;s Blog
X-ORIGINAL-URL:https://lingenfelter.com/blog
X-WR-CALDESC:Events for Lingenfelter&#039;s Blog
BEGIN:VEVENT
DTSTART;TZID=America/Detroit:20170722T080000
DTEND;TZID=America/Detroit:20170722T100000
DTSTAMP:20260425T112811
CREATED:20170717T143807Z
LAST-MODIFIED:20170717T143807Z
UID:2754-1500710400-1500717600@lingenfelter.com
SUMMARY:Lingenfelter Cars and Coffee Chevy Day!
DESCRIPTION:Are you a Chevy Lover? Do you Drive a Chevy? Do you dream of one day owning a Chevy? This cars and coffee will be your little slice of heaven! \nCalling all Chevy Owners and Lovers! Bring your pride and joy to#Lingenfelter Cars and Coffee this Saturday July 22nd. \nIf you have a passion for bikes\, hot rods\, muscle cars\, exotics and everything in between… This is going to be the place to be! Everything from a rat rod to a brand new Lamborghini Huracán! \nWe welcome everyone! No admission\, our cars and coffee benefits our local Gleaners Food Bank. Any donation you would like to bring is greatly appreciated whether is be a nonperishable food donation or a monetary donation! We have a goal of reaching 50\,000 Meals this Cars and Coffee Season! \nCoffee & Donuts will be available for purchase through LaPerfetto Cappuccino! \nAdam’s Polishes will be hosting weekly detailing demo’s at each cars and coffee! Products available for purchase\, as well as free samples and giveaways! \nCars & Coffee is located at the Lingenfelter Northern Facility.\n(47451 Avante Dr. Wixom\, MI) Right off 96/Beck Road. The building faces Beck Rd. Easy on/off highway access. \nIf you’re interested in some work on your vehicle\, please give our team a call at 260-724-2552 \n**If you are interested in bringing your club to a Cars and Coffee event\, please contact Christina at 248-782-7359 for special parking arrangments!** \n
URL:https://lingenfelter.com/blog/event/lingenfelter-cars-and-coffee-chevy-day/
LOCATION:47451 Avante Drive\, Wixom\, MI\, 48393\, United States
CATEGORIES:Cars and Coffee
ATTACH;FMTTYPE=image/jpeg:https://lingenfelter.com/blog/wp-content/uploads/2017/07/19955888_659377424258747_4760742823500972200_o.jpg
END:VEVENT
END:VCALENDAR