BEGIN:VCALENDAR
VERSION:2.0
PRODID:-//Lingenfelter&#039;s Blog - ECPv4.6.10.1//NONSGML v1.0//EN
CALSCALE:GREGORIAN
METHOD:PUBLISH
X-WR-CALNAME:Lingenfelter&#039;s Blog
X-ORIGINAL-URL:https://lingenfelter.com/blog
X-WR-CALDESC:Events for Lingenfelter&#039;s Blog
BEGIN:VEVENT
DTSTART;TZID=America/Detroit:20170127T100000
DTEND;TZID=America/Detroit:20170129T190000
DTSTAMP:20260425T112521
CREATED:20170120T145626Z
LAST-MODIFIED:20170120T154116Z
UID:2568-1485511200-1485716400@lingenfelter.com
SUMMARY:The Classic Auto Show LA 2017
DESCRIPTION: \nLingenfelter Performance Engineering is partnering with Superformance! Visit Booth # 2343 to check out the Lingenfelter Powered Superformance Grand Sport Corvette.  \nThe Classic Auto Show is a brand new three-day celebration of all things automotive\, paying tribute to the cars that graced our highways in bygone years and paved the way for the modern motor cars we see on the road today.  \nThese three days will showcase the best of the classic and vintage motoring scene including the stars from Velocity’s biggest car shows\, the best car clubs from across the US\, and a huge range of brands including all your favorite American cars along with the best from the rest of the world.  \nExpect to see the rare and unusual\, pristine and project cars\, those that were loved and some that were hated\, the car that your folks used to take you on your first road trip and the one that you learned to drive in – something for everyone automotive enthusiast!  \nJourney through the ages as you stroll along our Grand Boulevard lined with a unique automotive historic timeline\, enjoy a mix of entertainment and expert advice in our Celebrity Theater\, and explore the hall filled with car dealers\, parts and service providers\, and everything you need to keep on motoring. \nCelebrity Ken Lingenfelter will be present himself!  \nShow Dates and Times:\nFriday\, January 27\, 2017\, 10AM-7PM\nSaturday\, January 28\, 2017 9AM-7PM\nSunday\, January 29\, 2017 9AM-5PM \n
URL:https://lingenfelter.com/blog/event/the-classic-auto-show-la-2017/
LOCATION:1201 S Figueroa Street \, Los Angeles \, CA \, 90015
CATEGORIES:Auto Show
END:VEVENT
END:VCALENDAR